BEGIN:VCALENDAR
VERSION:2.0
PRODID:-//Tukios.com/
BEGIN:VEVENT
UID:79555b77-a70b-4cfa-ad2c-f9330a42bc7a@www.rhusband.com
DTSTAMP:20260422T003817Z
DTSTART:20260501T190000Z
DTEND:20260501T230000Z
SUMMARY:Visitation
DESCRIPTION:
URL:https://www.rhusband.com/obituaries/carolyn-cloyd
LOCATION: 2401 S Wayne Rd  Westland MI 48186
GEO:42.2909702;-83.3859236
END:VEVENT
END:VCALENDAR