BEGIN:VCALENDAR
VERSION:2.0
PRODID:-//Tukios.com/
BEGIN:VEVENT
UID:f30c4dfa-3873-40af-9dcf-9742fbcb19d4@www.rhusband.com
DTSTAMP:20260422T002632Z
DTSTART:20260502T180000Z
DTEND:20260502T190000Z
SUMMARY:Family Hour
DESCRIPTION:
URL:https://www.rhusband.com/obituaries/carolyn-cloyd
LOCATION: 2401 S Wayne Rd  Westland MI 48186
GEO:42.2909702;-83.3859236
END:VEVENT
END:VCALENDAR