BEGIN:VCALENDAR
VERSION:2.0
PRODID:-//Tukios.com/
BEGIN:VEVENT
UID:2b477766-5c38-4594-9cb5-a1cfc837df0b@www.rhusband.com
DTSTAMP:20260421T020534Z
DTSTART:20260425T160000Z
DTEND:20260425T200000Z
SUMMARY:Visitation
DESCRIPTION:
URL:https://www.rhusband.com/obituaries/curtis-mckinnie
LOCATION: 33640 Michigan Avenue  Wayne MI 48184
GEO:42.2824528;-83.371301
END:VEVENT
END:VCALENDAR