BEGIN:VCALENDAR
VERSION:2.0
PRODID:-//Tukios.com/
BEGIN:VEVENT
UID:62952b4b-1ac8-4686-8b4f-31a4559d9a42@www.rhusband.com
DTSTAMP:20260421T015542Z
DTSTART:20260425T190000Z
DTEND:20260425T193000Z
SUMMARY:Remarks
DESCRIPTION:
URL:https://www.rhusband.com/obituaries/curtis-mckinnie
LOCATION: 33640 Michigan Avenue  Wayne MI 48184
GEO:42.2824528;-83.371301
END:VEVENT
END:VCALENDAR