BEGIN:VCALENDAR
VERSION:2.0
PRODID:-//Tukios.com/
BEGIN:VEVENT
UID:0566352a-072f-4ead-9ab4-a5d171e73c1f@www.rhusband.com
DTSTAMP:20260421T015721Z
DTSTART:20260425T193000Z
DTEND:20260425T203000Z
SUMMARY:Military Honors
DESCRIPTION:
URL:https://www.rhusband.com/obituaries/curtis-mckinnie
LOCATION: 33640 Michigan Avenue  Wayne MI 48184
GEO:42.2824528;-83.371301
END:VEVENT
END:VCALENDAR