BEGIN:VCALENDAR
VERSION:2.0
PRODID:-//Tukios.com/
BEGIN:VEVENT
UID:a9d130b8-c59d-422f-bd38-9c2d681f6d89@www.rhusband.com
DTSTAMP:20260422T002921Z
DTSTART:20260424T180000Z
DTEND:20260424T220000Z
SUMMARY:Visitation
DESCRIPTION:
URL:https://www.rhusband.com/obituaries/dianne-lowe-thrash
LOCATION: 2401 S Wayne Rd  Westland MI 48186
GEO:42.2909702;-83.3859236
END:VEVENT
END:VCALENDAR