BEGIN:VCALENDAR
VERSION:2.0
PRODID:-//Tukios.com/
BEGIN:VEVENT
UID:b496c796-9645-4f7b-bcee-5e64e06ae267@www.rhusband.com
DTSTAMP:20260422T002738Z
DTSTART:20260425T140000Z
DTEND:20260425T150000Z
SUMMARY:Family Hour
DESCRIPTION:
URL:https://www.rhusband.com/obituaries/dianne-lowe-thrash
LOCATION: 27628 Avondale Street  Inkster MI 48141
GEO:42.3046771;-83.314045
END:VEVENT
END:VCALENDAR