BEGIN:VCALENDAR
VERSION:2.0
PRODID:-//Tukios.com/
BEGIN:VEVENT
UID:368df563-5c29-4b00-a963-178e557f4fba@www.rhusband.com
DTSTAMP:20260422T003249Z
DTSTART:20260425T150000Z
DTEND:20260425T160000Z
SUMMARY:Funeral Service
DESCRIPTION:
URL:https://www.rhusband.com/obituaries/dianne-lowe-thrash
LOCATION: 27628 Avondale Street  Inkster MI 48141
GEO:42.3046771;-83.314045
END:VEVENT
END:VCALENDAR