BEGIN:VCALENDAR
VERSION:2.0
PRODID:-//Tukios.com/
BEGIN:VEVENT
UID:9a6cc721-f1eb-4400-83fd-4054885a3556@www.rhusband.com
DTSTAMP:20260422T002704Z
DTSTART:20260425
SUMMARY:Entombment
DESCRIPTION:
URL:https://www.rhusband.com/obituaries/dianne-lowe-thrash
LOCATION: 17840 Middlebelt Road  Livonia MI 48152
GEO:42.4172836;-83.3321786
END:VEVENT
END:VCALENDAR