BEGIN:VCALENDAR
VERSION:2.0
PRODID:-//Tukios.com/
BEGIN:VEVENT
UID:0820614b-e16d-4ae7-a1d1-11381e282c41@www.rhusband.com
DTSTAMP:20260422T002445Z
DTSTART:20260424T190000Z
DTEND:20260424T230000Z
SUMMARY:Visitation
DESCRIPTION:
URL:https://www.rhusband.com/obituaries/sydney-forrester-jr
LOCATION: 2401 S Wayne Rd  Westland MI 48186
GEO:42.2909702;-83.3859236
END:VEVENT
END:VCALENDAR