BEGIN:VCALENDAR
VERSION:2.0
PRODID:-//Tukios.com/
BEGIN:VEVENT
UID:63b1e339-c1e0-43c2-a806-cc327fb88c19@www.rhusband.com
DTSTAMP:20260422T003125Z
DTSTART:20260425T180000Z
DTEND:20260425T190000Z
SUMMARY:Family Hour
DESCRIPTION:
URL:https://www.rhusband.com/obituaries/sydney-forrester-jr
LOCATION: 2401 S Wayne Rd  Westland MI 48186
GEO:42.2909702;-83.3859236
END:VEVENT
END:VCALENDAR